View In:
ArcGIS JavaScript
ArcGIS Online Map Viewer
ArcGIS Earth
ArcGIS Pro
Service Description: Basic data for pre-planning purposes, not to be relied on for professional services, see disclaimer.
DISCLAIMER: THE GEOGRAPHIC INFORMATION SYSTEMS (GIS) DATA MADE AVAILABLE ARE DEVELOPED AND MAINTAINED BY THE CITY OF GRANTS PASS AND JOSEPHINE COUNTY. THE CITY OF GRANTS PASS MAKES NO WARRANTIES, CLAIMS, OR REPRESENTATIONS (EXPRESSED OR IMPLIED) AS TO THE USE OF THE MAPS AND DATA MADE AVAILABLE BY CITY PERSONNEL OR AT CITY WEBSITES. THERE ARE NO IMPLIED WARRANTIES OF MERCHANTABILITY OR FITNESS FOR A PARTICULAR PURPOSE. THE USER ACKNOWLEDGES AND ACCEPTS ALL INHERENT LIMITATIONS OF THE MAPS AND DATA. INCLUDING THE FACT THAT THE MAPS AND DATA ARE DYNAMIC AND IN A CONSTANT STATE OF MAINTENANCE, CORRECTION AND REVISION. ANY MAPS AND ASSOCIATED DATA FOR ACCESS DO NOT REPRESENT A SURVEY. NO LIABILITY IS ASSUMED FOR THE ACCURACY OF THE DATA DELINEATED ON ANY MAP, OR DATA DISSEMINATED IN ANY OTHER FORM, EITHER EXPRESSED OR IMPLIED. DATA INCLUDES BUT NOT LIMTED TO THE FOLLOWING: HARD COPY MAPS, WEB MAPS/APPLICATIONS, AUTO-CAD (.DWG/.DXF), SHAPE-FILES, GEODATABASES, AND/OR ALL IMAGE FILE FORMATS… PLEASE CONSULT APPROPRIATE PROFESSIONALS WHEN PLANNING ANY VARIETY OF JOBS (RPLS, LICENSED ENGINEERS, 811, TITLE COMPANY……)
Map Name: 2017 Aerial
Legend
All Layers and Tables
Dynamic Legend
Dynamic All Layers
Layers:
Description:
Service Item Id: ec6ddda587974ea9a63e60b6b97d8e52
Copyright Text: City of Grants Pass
Spatial Reference:
102100
(3857)
LatestVCSWkid(0)
Single Fused Map Cache: true
Tile Info:
- Height: 256.0
- Width: 256.0
- DPI: 96.0
-
Levels of Detail: 24
-
Level ID: 1
[ Start Tile, End Tile ]
- Resolution: 78271.5169639999
- Scale: 2.95828763795777E8
-
Level ID: 2
[ Start Tile, End Tile ]
- Resolution: 39135.7584820001
- Scale: 1.47914381897889E8
-
Level ID: 3
[ Start Tile, End Tile ]
- Resolution: 19567.8792409999
- Scale: 7.3957190948944E7
-
Level ID: 4
[ Start Tile, End Tile ]
- Resolution: 9783.93962049996
- Scale: 3.6978595474472E7
-
Level ID: 5
[ Start Tile, End Tile ]
- Resolution: 4891.96981024998
- Scale: 1.8489297737236E7
- Format: Mixed
- Compression Quality: 75.0
- Origin: X: -2.0037508342787E7
Y: 2.0037508342787E7
- Spatial Reference: 102100
(3857)
LatestVCSWkid(0)
Storage Info:
- Storage Format: esriMapCacheStorageModeCompactV2
- Packet Size: 128
Initial Extent:
XMin: -1.3741741201378826E7
YMin: 5213773.259726705
XMax: -1.3721594057283366E7
YMax: 5244757.905089283
Spatial Reference: 102100
(3857)
LatestVCSWkid(0)
Full Extent:
XMin: -1.3740809945137555E7
YMin: 5217903.178099913
XMax: -1.3722517514655763E7
YMax: 5240618.998443164
Spatial Reference: 102100
(3857)
LatestVCSWkid(0)
Units: esriMeters
Supported Image Format Types: PNG32,PNG24,PNG,JPG,DIB,TIFF,EMF,PS,PDF,GIF,SVG,SVGZ,BMP
Document Info:
Title: Map2
Author:
Comments:
Subject:
Category:
Keywords: Grants Pass Aerials
AntialiasingMode: Fast
TextAntialiasingMode: Force
Supports Dynamic Layers: true
MaxRecordCount: 2000
MaxSelectionCount: 2000
MaxImageHeight: 4096
MaxImageWidth: 4096
Supported Query Formats: JSON, geoJSON, PBF
Supports Query Data Elements: true
Min Scale: 72223.819286
Max Scale: 564.248588
Min LOD: 13
Max LOD: 20
Supports Datum Transformation: true
Child Resources:
Info
Dynamic Layer
Supported Operations:
Export Map
QueryLegends
Return Updates