{
 "version": 1.0,
 "tileBundlesPath": "./tile",
 "spatialReference": {
  "wkid": 102100,
  "latestWkid": 3857
 },
 "storageInfo": {
  "packetSize": 128,
  "storageFormat": "esriMapCacheStorageModeCompactV2"
 },
 "tileImageInfo": {
  "format": "MIXED",
  "compressionQuality": 75,
  "bandCount": 1,
  "lercError": 0
 },
 "tileInfo": {
  "spatialReference": {
   "wkid": 102100,
   "latestWkid": 3857
  },
  "origin": {
   "x": -2.0037508342787E7,
   "y": 2.0037508342787E7
  },
  "rows": 256,
  "cols": 256,
  "dpi": 96,
  "lods": [
   {
    "level": 0,
    "resolution": 156543.033928,
    "scale": 5.91657527591555E8
   },
   {
    "level": 1,
    "resolution": 78271.5169639999,
    "scale": 2.95828763795777E8
   },
   {
    "level": 2,
    "resolution": 39135.7584820001,
    "scale": 1.47914381897889E8
   },
   {
    "level": 3,
    "resolution": 19567.8792409999,
    "scale": 7.3957190948944E7
   },
   {
    "level": 4,
    "resolution": 9783.93962049996,
    "scale": 3.6978595474472E7
   },
   {
    "level": 5,
    "resolution": 4891.96981024998,
    "scale": 1.8489297737236E7
   },
   {
    "level": 6,
    "resolution": 2445.98490512499,
    "scale": 9244648.868618
   },
   {
    "level": 7,
    "resolution": 1222.99245256249,
    "scale": 4622324.434309
   },
   {
    "level": 8,
    "resolution": 611.49622628138,
    "scale": 2311162.217155
   },
   {
    "level": 9,
    "resolution": 305.748113140558,
    "scale": 1155581.108577
   },
   {
    "level": 10,
    "resolution": 152.874056570411,
    "scale": 577790.554289
   },
   {
    "level": 11,
    "resolution": 76.4370282850732,
    "scale": 288895.277144
   },
   {
    "level": 12,
    "resolution": 38.2185141425366,
    "scale": 144447.638572
   },
   {
    "level": 13,
    "resolution": 19.1092570712683,
    "scale": 72223.819286
   },
   {
    "level": 14,
    "resolution": 9.55462853563415,
    "scale": 36111.909643
   },
   {
    "level": 15,
    "resolution": 4.77731426794937,
    "scale": 18055.954822
   },
   {
    "level": 16,
    "resolution": 2.38865713397468,
    "scale": 9027.977411
   },
   {
    "level": 17,
    "resolution": 1.19432856685505,
    "scale": 4513.988705
   },
   {
    "level": 18,
    "resolution": 0.597164283559817,
    "scale": 2256.994353
   },
   {
    "level": 19,
    "resolution": 0.298582141647617,
    "scale": 1128.497176
   },
   {
    "level": 20,
    "resolution": 0.14929107082380833,
    "scale": 564.248588
   },
   {
    "level": 21,
    "resolution": 0.07464553541190416,
    "scale": 282.124294
   },
   {
    "level": 22,
    "resolution": 0.03732276770595208,
    "scale": 141.062147
   },
   {
    "level": 23,
    "resolution": 0.01866138385297604,
    "scale": 70.5310735
   }
  ],
  "format": "MIXED",
  "compressionQuality": 75,
  "bandCount": 1,
  "lercError": 0,
  "storageFormat": "esriMapCacheStorageModeCompactV2",
  "packetSize": 128
 },
 "name": "1975",
 "serviceDescription": "",
 "units": "esriMeters",
 "minLOD": 0,
 "maxLOD": 23,
 "resampling": true,
 "layers": [
  {
   "id": 0,
   "name": "NW of Airport (1975)",
   "parentLayerId": -1,
   "defaultVisibility": true,
   "subLayerIds": null,
   "minScale": 0,
   "maxScale": 0,
   "type": "Raster Layer",
   "supportsDynamicLegends": true,
   "legend": [
    {
     "label": "Red: Band_1",
     "imageData": "iVBORw0KGgoAAAANSUhEUgAAABQAAAAUCAYAAACNiR0NAAAACXBIWXMAAA7EAAAOxAGVKw4bAAAAOklEQVQ4jWNhoDJgoZmB/8GIfMAIRrR0IbUAC9VMgoJRAykHLFQwAwWMGkg5YBnBBjJCyzOqGUgtAABgfwJTnasaYgAAAABJRU5ErkJggg==",
     "contentType": "image/png",
     "groupId": "0",
     "height": 20,
     "width": 20,
     "layerId": 0,
     "layerName": "NW of Airport (1975)"
    },
    {
     "label": "Green: Band_2",
     "imageData": "iVBORw0KGgoAAAANSUhEUgAAABQAAAAUCAYAAACNiR0NAAAACXBIWXMAAA7EAAAOxAGVKw4bAAAAO0lEQVQ4je3UsQ0AMAwCQSyx/8pOEymihnT8AFc+EY7/wMVa0mAUDMWCdvQJraAfA4ZU0O+B92c5MNQBX34CU6r+08wAAAAASUVORK5CYII=",
     "contentType": "image/png",
     "groupId": "0",
     "height": 20,
     "width": 20,
     "layerId": 0,
     "layerName": "NW of Airport (1975)"
    },
    {
     "label": "Blue: Band_3",
     "imageData": "iVBORw0KGgoAAAANSUhEUgAAABQAAAAUCAYAAACNiR0NAAAACXBIWXMAAA7EAAAOxAGVKw4bAAAAOklEQVQ4je3UsREAIAzDQHKn/VcOBQ2htemsAb4UyxwfwW6NqnpATwSUQydmAfUwGKOAehd4fmYEPW1efQJTICDEhwAAAABJRU5ErkJggg==",
     "contentType": "image/png",
     "groupId": "0",
     "height": 20,
     "width": 20,
     "layerId": 0,
     "layerName": "NW of Airport (1975)"
    }
   ],
   "layerId": 0,
   "layerName": "NW of Airport (1975)",
   "serviceItemId": "e78dd8e7f5ed467bb062dd5065a13147"
  },
  {
   "id": 1,
   "name": "Airport Area (1975)",
   "parentLayerId": -1,
   "defaultVisibility": true,
   "subLayerIds": null,
   "minScale": 0,
   "maxScale": 0,
   "type": "Raster Layer",
   "supportsDynamicLegends": true,
   "legend": [
    {
     "label": "Red: Band_1",
     "imageData": "iVBORw0KGgoAAAANSUhEUgAAABQAAAAUCAYAAACNiR0NAAAACXBIWXMAAA7EAAAOxAGVKw4bAAAAOklEQVQ4jWNhoDJgoZmB/8GIfMAIRrR0IbUAC9VMgoJRAykHLFQwAwWMGkg5YBnBBjJCyzOqGUgtAABgfwJTnasaYgAAAABJRU5ErkJggg==",
     "contentType": "image/png",
     "groupId": "0",
     "height": 20,
     "width": 20,
     "layerId": 1,
     "layerName": "Airport Area (1975)"
    },
    {
     "label": "Green: Band_2",
     "imageData": "iVBORw0KGgoAAAANSUhEUgAAABQAAAAUCAYAAACNiR0NAAAACXBIWXMAAA7EAAAOxAGVKw4bAAAAO0lEQVQ4je3UsQ0AMAwCQSyx/8pOEymihnT8AFc+EY7/wMVa0mAUDMWCdvQJraAfA4ZU0O+B92c5MNQBX34CU6r+08wAAAAASUVORK5CYII=",
     "contentType": "image/png",
     "groupId": "0",
     "height": 20,
     "width": 20,
     "layerId": 1,
     "layerName": "Airport Area (1975)"
    },
    {
     "label": "Blue: Band_3",
     "imageData": "iVBORw0KGgoAAAANSUhEUgAAABQAAAAUCAYAAACNiR0NAAAACXBIWXMAAA7EAAAOxAGVKw4bAAAAOklEQVQ4je3UsREAIAzDQHKn/VcOBQ2htemsAb4UyxwfwW6NqnpATwSUQydmAfUwGKOAehd4fmYEPW1efQJTICDEhwAAAABJRU5ErkJggg==",
     "contentType": "image/png",
     "groupId": "0",
     "height": 20,
     "width": 20,
     "layerId": 1,
     "layerName": "Airport Area (1975)"
    }
   ],
   "layerId": 1,
   "layerName": "Airport Area (1975)",
   "serviceItemId": "e78dd8e7f5ed467bb062dd5065a13147"
  },
  {
   "id": 2,
   "name": "Redwood Ave & Fairgrounds (1975)",
   "parentLayerId": -1,
   "defaultVisibility": true,
   "subLayerIds": null,
   "minScale": 0,
   "maxScale": 0,
   "type": "Raster Layer",
   "supportsDynamicLegends": true,
   "legend": [
    {
     "label": "Red: Band_1",
     "imageData": "iVBORw0KGgoAAAANSUhEUgAAABQAAAAUCAYAAACNiR0NAAAACXBIWXMAAA7EAAAOxAGVKw4bAAAAOklEQVQ4jWNhoDJgoZmB/8GIfMAIRrR0IbUAC9VMgoJRAykHLFQwAwWMGkg5YBnBBjJCyzOqGUgtAABgfwJTnasaYgAAAABJRU5ErkJggg==",
     "contentType": "image/png",
     "groupId": "0",
     "height": 20,
     "width": 20,
     "layerId": 2,
     "layerName": "Redwood Ave & Fairgrounds (1975)"
    },
    {
     "label": "Green: Band_2",
     "imageData": "iVBORw0KGgoAAAANSUhEUgAAABQAAAAUCAYAAACNiR0NAAAACXBIWXMAAA7EAAAOxAGVKw4bAAAAO0lEQVQ4je3UsQ0AMAwCQSyx/8pOEymihnT8AFc+EY7/wMVa0mAUDMWCdvQJraAfA4ZU0O+B92c5MNQBX34CU6r+08wAAAAASUVORK5CYII=",
     "contentType": "image/png",
     "groupId": "0",
     "height": 20,
     "width": 20,
     "layerId": 2,
     "layerName": "Redwood Ave & Fairgrounds (1975)"
    },
    {
     "label": "Blue: Band_3",
     "imageData": "iVBORw0KGgoAAAANSUhEUgAAABQAAAAUCAYAAACNiR0NAAAACXBIWXMAAA7EAAAOxAGVKw4bAAAAOklEQVQ4je3UsREAIAzDQHKn/VcOBQ2htemsAb4UyxwfwW6NqnpATwSUQydmAfUwGKOAehd4fmYEPW1efQJTICDEhwAAAABJRU5ErkJggg==",
     "contentType": "image/png",
     "groupId": "0",
     "height": 20,
     "width": 20,
     "layerId": 2,
     "layerName": "Redwood Ave & Fairgrounds (1975)"
    }
   ],
   "layerId": 2,
   "layerName": "Redwood Ave & Fairgrounds (1975)",
   "serviceItemId": "e78dd8e7f5ed467bb062dd5065a13147"
  },
  {
   "id": 3,
   "name": "I-5 to Merlin (1975)",
   "parentLayerId": -1,
   "defaultVisibility": true,
   "subLayerIds": null,
   "minScale": 0,
   "maxScale": 0,
   "type": "Raster Layer",
   "supportsDynamicLegends": true,
   "legend": [
    {
     "label": "Red: Band_1",
     "imageData": "iVBORw0KGgoAAAANSUhEUgAAABQAAAAUCAYAAACNiR0NAAAACXBIWXMAAA7EAAAOxAGVKw4bAAAAOklEQVQ4jWNhoDJgoZmB/8GIfMAIRrR0IbUAC9VMgoJRAykHLFQwAwWMGkg5YBnBBjJCyzOqGUgtAABgfwJTnasaYgAAAABJRU5ErkJggg==",
     "contentType": "image/png",
     "groupId": "0",
     "height": 20,
     "width": 20,
     "layerId": 3,
     "layerName": "I-5 to Merlin (1975)"
    },
    {
     "label": "Green: Band_2",
     "imageData": "iVBORw0KGgoAAAANSUhEUgAAABQAAAAUCAYAAACNiR0NAAAACXBIWXMAAA7EAAAOxAGVKw4bAAAAO0lEQVQ4je3UsQ0AMAwCQSyx/8pOEymihnT8AFc+EY7/wMVa0mAUDMWCdvQJraAfA4ZU0O+B92c5MNQBX34CU6r+08wAAAAASUVORK5CYII=",
     "contentType": "image/png",
     "groupId": "0",
     "height": 20,
     "width": 20,
     "layerId": 3,
     "layerName": "I-5 to Merlin (1975)"
    },
    {
     "label": "Blue: Band_3",
     "imageData": "iVBORw0KGgoAAAANSUhEUgAAABQAAAAUCAYAAACNiR0NAAAACXBIWXMAAA7EAAAOxAGVKw4bAAAAOklEQVQ4je3UsREAIAzDQHKn/VcOBQ2htemsAb4UyxwfwW6NqnpATwSUQydmAfUwGKOAehd4fmYEPW1efQJTICDEhwAAAABJRU5ErkJggg==",
     "contentType": "image/png",
     "groupId": "0",
     "height": 20,
     "width": 20,
     "layerId": 3,
     "layerName": "I-5 to Merlin (1975)"
    }
   ],
   "layerId": 3,
   "layerName": "I-5 to Merlin (1975)",
   "serviceItemId": "e78dd8e7f5ed467bb062dd5065a13147"
  },
  {
   "id": 4,
   "name": "North Central GP (1975)",
   "parentLayerId": -1,
   "defaultVisibility": true,
   "subLayerIds": null,
   "minScale": 0,
   "maxScale": 0,
   "type": "Raster Layer",
   "supportsDynamicLegends": true,
   "legend": [
    {
     "label": "Red: Band_1",
     "imageData": "iVBORw0KGgoAAAANSUhEUgAAABQAAAAUCAYAAACNiR0NAAAACXBIWXMAAA7EAAAOxAGVKw4bAAAAOklEQVQ4jWNhoDJgoZmB/8GIfMAIRrR0IbUAC9VMgoJRAykHLFQwAwWMGkg5YBnBBjJCyzOqGUgtAABgfwJTnasaYgAAAABJRU5ErkJggg==",
     "contentType": "image/png",
     "groupId": "0",
     "height": 20,
     "width": 20,
     "layerId": 4,
     "layerName": "North Central GP (1975)"
    },
    {
     "label": "Green: Band_2",
     "imageData": "iVBORw0KGgoAAAANSUhEUgAAABQAAAAUCAYAAACNiR0NAAAACXBIWXMAAA7EAAAOxAGVKw4bAAAAO0lEQVQ4je3UsQ0AMAwCQSyx/8pOEymihnT8AFc+EY7/wMVa0mAUDMWCdvQJraAfA4ZU0O+B92c5MNQBX34CU6r+08wAAAAASUVORK5CYII=",
     "contentType": "image/png",
     "groupId": "0",
     "height": 20,
     "width": 20,
     "layerId": 4,
     "layerName": "North Central GP (1975)"
    },
    {
     "label": "Blue: Band_3",
     "imageData": "iVBORw0KGgoAAAANSUhEUgAAABQAAAAUCAYAAACNiR0NAAAACXBIWXMAAA7EAAAOxAGVKw4bAAAAOklEQVQ4je3UsREAIAzDQHKn/VcOBQ2htemsAb4UyxwfwW6NqnpATwSUQydmAfUwGKOAehd4fmYEPW1efQJTICDEhwAAAABJRU5ErkJggg==",
     "contentType": "image/png",
     "groupId": "0",
     "height": 20,
     "width": 20,
     "layerId": 4,
     "layerName": "North Central GP (1975)"
    }
   ],
   "layerId": 4,
   "layerName": "North Central GP (1975)",
   "serviceItemId": "e78dd8e7f5ed467bb062dd5065a13147"
  },
  {
   "id": 5,
   "name": "Central GP (1975)",
   "parentLayerId": -1,
   "defaultVisibility": true,
   "subLayerIds": null,
   "minScale": 0,
   "maxScale": 0,
   "type": "Raster Layer",
   "supportsDynamicLegends": true,
   "legend": [
    {
     "label": "Red: Band_1",
     "imageData": "iVBORw0KGgoAAAANSUhEUgAAABQAAAAUCAYAAACNiR0NAAAACXBIWXMAAA7EAAAOxAGVKw4bAAAAOklEQVQ4jWNhoDJgoZmB/8GIfMAIRrR0IbUAC9VMgoJRAykHLFQwAwWMGkg5YBnBBjJCyzOqGUgtAABgfwJTnasaYgAAAABJRU5ErkJggg==",
     "contentType": "image/png",
     "groupId": "0",
     "height": 20,
     "width": 20,
     "layerId": 5,
     "layerName": "Central GP (1975)"
    },
    {
     "label": "Green: Band_2",
     "imageData": "iVBORw0KGgoAAAANSUhEUgAAABQAAAAUCAYAAACNiR0NAAAACXBIWXMAAA7EAAAOxAGVKw4bAAAAO0lEQVQ4je3UsQ0AMAwCQSyx/8pOEymihnT8AFc+EY7/wMVa0mAUDMWCdvQJraAfA4ZU0O+B92c5MNQBX34CU6r+08wAAAAASUVORK5CYII=",
     "contentType": "image/png",
     "groupId": "0",
     "height": 20,
     "width": 20,
     "layerId": 5,
     "layerName": "Central GP (1975)"
    },
    {
     "label": "Blue: Band_3",
     "imageData": "iVBORw0KGgoAAAANSUhEUgAAABQAAAAUCAYAAACNiR0NAAAACXBIWXMAAA7EAAAOxAGVKw4bAAAAOklEQVQ4je3UsREAIAzDQHKn/VcOBQ2htemsAb4UyxwfwW6NqnpATwSUQydmAfUwGKOAehd4fmYEPW1efQJTICDEhwAAAABJRU5ErkJggg==",
     "contentType": "image/png",
     "groupId": "0",
     "height": 20,
     "width": 20,
     "layerId": 5,
     "layerName": "Central GP (1975)"
    }
   ],
   "layerId": 5,
   "layerName": "Central GP (1975)",
   "serviceItemId": "e78dd8e7f5ed467bb062dd5065a13147"
  },
  {
   "id": 6,
   "name": "Far East GP (1975)",
   "parentLayerId": -1,
   "defaultVisibility": true,
   "subLayerIds": null,
   "minScale": 0,
   "maxScale": 0,
   "type": "Raster Layer",
   "supportsDynamicLegends": true,
   "legend": [
    {
     "label": "Red: Band_1",
     "imageData": "iVBORw0KGgoAAAANSUhEUgAAABQAAAAUCAYAAACNiR0NAAAACXBIWXMAAA7EAAAOxAGVKw4bAAAAOklEQVQ4jWNhoDJgoZmB/8GIfMAIRrR0IbUAC9VMgoJRAykHLFQwAwWMGkg5YBnBBjJCyzOqGUgtAABgfwJTnasaYgAAAABJRU5ErkJggg==",
     "contentType": "image/png",
     "groupId": "0",
     "height": 20,
     "width": 20,
     "layerId": 6,
     "layerName": "Far East GP (1975)"
    },
    {
     "label": "Green: Band_2",
     "imageData": "iVBORw0KGgoAAAANSUhEUgAAABQAAAAUCAYAAACNiR0NAAAACXBIWXMAAA7EAAAOxAGVKw4bAAAAO0lEQVQ4je3UsQ0AMAwCQSyx/8pOEymihnT8AFc+EY7/wMVa0mAUDMWCdvQJraAfA4ZU0O+B92c5MNQBX34CU6r+08wAAAAASUVORK5CYII=",
     "contentType": "image/png",
     "groupId": "0",
     "height": 20,
     "width": 20,
     "layerId": 6,
     "layerName": "Far East GP (1975)"
    },
    {
     "label": "Blue: Band_3",
     "imageData": "iVBORw0KGgoAAAANSUhEUgAAABQAAAAUCAYAAACNiR0NAAAACXBIWXMAAA7EAAAOxAGVKw4bAAAAOklEQVQ4je3UsREAIAzDQHKn/VcOBQ2htemsAb4UyxwfwW6NqnpATwSUQydmAfUwGKOAehd4fmYEPW1efQJTICDEhwAAAABJRU5ErkJggg==",
     "contentType": "image/png",
     "groupId": "0",
     "height": 20,
     "width": 20,
     "layerId": 6,
     "layerName": "Far East GP (1975)"
    }
   ],
   "layerId": 6,
   "layerName": "Far East GP (1975)",
   "serviceItemId": "e78dd8e7f5ed467bb062dd5065a13147"
  },
  {
   "id": 7,
   "name": "Murphy (1975)",
   "parentLayerId": -1,
   "defaultVisibility": true,
   "subLayerIds": null,
   "minScale": 0,
   "maxScale": 0,
   "type": "Raster Layer",
   "supportsDynamicLegends": true,
   "legend": [
    {
     "label": "Red: Band_1",
     "imageData": "iVBORw0KGgoAAAANSUhEUgAAABQAAAAUCAYAAACNiR0NAAAACXBIWXMAAA7EAAAOxAGVKw4bAAAAOklEQVQ4jWNhoDJgoZmB/8GIfMAIRrR0IbUAC9VMgoJRAykHLFQwAwWMGkg5YBnBBjJCyzOqGUgtAABgfwJTnasaYgAAAABJRU5ErkJggg==",
     "contentType": "image/png",
     "groupId": "0",
     "height": 20,
     "width": 20,
     "layerId": 7,
     "layerName": "Murphy (1975)"
    },
    {
     "label": "Green: Band_2",
     "imageData": "iVBORw0KGgoAAAANSUhEUgAAABQAAAAUCAYAAACNiR0NAAAACXBIWXMAAA7EAAAOxAGVKw4bAAAAO0lEQVQ4je3UsQ0AMAwCQSyx/8pOEymihnT8AFc+EY7/wMVa0mAUDMWCdvQJraAfA4ZU0O+B92c5MNQBX34CU6r+08wAAAAASUVORK5CYII=",
     "contentType": "image/png",
     "groupId": "0",
     "height": 20,
     "width": 20,
     "layerId": 7,
     "layerName": "Murphy (1975)"
    },
    {
     "label": "Blue: Band_3",
     "imageData": "iVBORw0KGgoAAAANSUhEUgAAABQAAAAUCAYAAACNiR0NAAAACXBIWXMAAA7EAAAOxAGVKw4bAAAAOklEQVQ4je3UsREAIAzDQHKn/VcOBQ2htemsAb4UyxwfwW6NqnpATwSUQydmAfUwGKOAehd4fmYEPW1efQJTICDEhwAAAABJRU5ErkJggg==",
     "contentType": "image/png",
     "groupId": "0",
     "height": 20,
     "width": 20,
     "layerId": 7,
     "layerName": "Murphy (1975)"
    }
   ],
   "layerId": 7,
   "layerName": "Murphy (1975)",
   "serviceItemId": "e78dd8e7f5ed467bb062dd5065a13147"
  },
  {
   "id": 8,
   "name": "Central GP (1975)",
   "parentLayerId": -1,
   "defaultVisibility": true,
   "subLayerIds": null,
   "minScale": 0,
   "maxScale": 0,
   "type": "Raster Layer",
   "supportsDynamicLegends": true,
   "legend": [
    {
     "label": "Red: Band_1",
     "imageData": "iVBORw0KGgoAAAANSUhEUgAAABQAAAAUCAYAAACNiR0NAAAACXBIWXMAAA7EAAAOxAGVKw4bAAAAOklEQVQ4jWNhoDJgoZmB/8GIfMAIRrR0IbUAC9VMgoJRAykHLFQwAwWMGkg5YBnBBjJCyzOqGUgtAABgfwJTnasaYgAAAABJRU5ErkJggg==",
     "contentType": "image/png",
     "groupId": "0",
     "height": 20,
     "width": 20,
     "layerId": 8,
     "layerName": "Central GP (1975)"
    },
    {
     "label": "Green: Band_2",
     "imageData": "iVBORw0KGgoAAAANSUhEUgAAABQAAAAUCAYAAACNiR0NAAAACXBIWXMAAA7EAAAOxAGVKw4bAAAAO0lEQVQ4je3UsQ0AMAwCQSyx/8pOEymihnT8AFc+EY7/wMVa0mAUDMWCdvQJraAfA4ZU0O+B92c5MNQBX34CU6r+08wAAAAASUVORK5CYII=",
     "contentType": "image/png",
     "groupId": "0",
     "height": 20,
     "width": 20,
     "layerId": 8,
     "layerName": "Central GP (1975)"
    },
    {
     "label": "Blue: Band_3",
     "imageData": "iVBORw0KGgoAAAANSUhEUgAAABQAAAAUCAYAAACNiR0NAAAACXBIWXMAAA7EAAAOxAGVKw4bAAAAOklEQVQ4je3UsREAIAzDQHKn/VcOBQ2htemsAb4UyxwfwW6NqnpATwSUQydmAfUwGKOAehd4fmYEPW1efQJTICDEhwAAAABJRU5ErkJggg==",
     "contentType": "image/png",
     "groupId": "0",
     "height": 20,
     "width": 20,
     "layerId": 8,
     "layerName": "Central GP (1975)"
    }
   ],
   "layerId": 8,
   "layerName": "Central GP (1975)",
   "serviceItemId": "e78dd8e7f5ed467bb062dd5065a13147"
  },
  {
   "id": 9,
   "name": "East Lower & Upper River Rd (1975)",
   "parentLayerId": -1,
   "defaultVisibility": true,
   "subLayerIds": null,
   "minScale": 0,
   "maxScale": 0,
   "type": "Raster Layer",
   "supportsDynamicLegends": true,
   "legend": [
    {
     "label": "Red: Band_1",
     "imageData": "iVBORw0KGgoAAAANSUhEUgAAABQAAAAUCAYAAACNiR0NAAAACXBIWXMAAA7EAAAOxAGVKw4bAAAAOklEQVQ4jWNhoDJgoZmB/8GIfMAIRrR0IbUAC9VMgoJRAykHLFQwAwWMGkg5YBnBBjJCyzOqGUgtAABgfwJTnasaYgAAAABJRU5ErkJggg==",
     "contentType": "image/png",
     "groupId": "0",
     "height": 20,
     "width": 20,
     "layerId": 9,
     "layerName": "East Lower & Upper River Rd (1975)"
    },
    {
     "label": "Green: Band_2",
     "imageData": "iVBORw0KGgoAAAANSUhEUgAAABQAAAAUCAYAAACNiR0NAAAACXBIWXMAAA7EAAAOxAGVKw4bAAAAO0lEQVQ4je3UsQ0AMAwCQSyx/8pOEymihnT8AFc+EY7/wMVa0mAUDMWCdvQJraAfA4ZU0O+B92c5MNQBX34CU6r+08wAAAAASUVORK5CYII=",
     "contentType": "image/png",
     "groupId": "0",
     "height": 20,
     "width": 20,
     "layerId": 9,
     "layerName": "East Lower & Upper River Rd (1975)"
    },
    {
     "label": "Blue: Band_3",
     "imageData": "iVBORw0KGgoAAAANSUhEUgAAABQAAAAUCAYAAACNiR0NAAAACXBIWXMAAA7EAAAOxAGVKw4bAAAAOklEQVQ4je3UsREAIAzDQHKn/VcOBQ2htemsAb4UyxwfwW6NqnpATwSUQydmAfUwGKOAehd4fmYEPW1efQJTICDEhwAAAABJRU5ErkJggg==",
     "contentType": "image/png",
     "groupId": "0",
     "height": 20,
     "width": 20,
     "layerId": 9,
     "layerName": "East Lower & Upper River Rd (1975)"
    }
   ],
   "layerId": 9,
   "layerName": "East Lower & Upper River Rd (1975)",
   "serviceItemId": "e78dd8e7f5ed467bb062dd5065a13147"
  }
 ],
 "initialExtent": {
  "xmin": -1.373976799760171E7,
  "ymin": 5210144.509144199,
  "xmax": -1.3720460962264027E7,
  "ymax": 5240307.501602497,
  "spatialReference": {
   "wkid": 102100,
   "latestWkid": 3857
  }
 },
 "fullExtent": {
  "xmin": -1.373976799760171E7,
  "ymin": 5210144.509144199,
  "xmax": -1.3720460962264027E7,
  "ymax": 5240307.501602497,
  "spatialReference": {
   "wkid": 102100,
   "latestWkid": 3857
  }
 },
 "minScale": 0,
 "maxScale": 0,
 "exportTilesAllowed": false,
 "maxExportTilesCount": 0,
 "currentVersion": 11.5,
 "mapName": "1975",
 "singleFusedMapCache": true,
 "type": "MapServer",
 "supportedExtensions": "",
 "capabilities": "TilesOnly,Tilemap",
 "serviceItemId": "e78dd8e7f5ed467bb062dd5065a13147"
}
